BEGIN:VCALENDAR
VERSION:2.0
PRODID:-//High Point Academy - ECPv6.15.18//NONSGML v1.0//EN
CALSCALE:GREGORIAN
METHOD:PUBLISH
X-WR-CALNAME:High Point Academy
X-ORIGINAL-URL:https://highpoint.fet.ac
X-WR-CALDESC:Events for High Point Academy
REFRESH-INTERVAL;VALUE=DURATION:PT1H
X-Robots-Tag:noindex
X-PUBLISHED-TTL:PT1H
BEGIN:VTIMEZONE
TZID:Europe/London
BEGIN:DAYLIGHT
TZOFFSETFROM:+0000
TZOFFSETTO:+0100
TZNAME:BST
DTSTART:20250330T010000
END:DAYLIGHT
BEGIN:STANDARD
TZOFFSETFROM:+0100
TZOFFSETTO:+0000
TZNAME:GMT
DTSTART:20251026T010000
END:STANDARD
BEGIN:DAYLIGHT
TZOFFSETFROM:+0000
TZOFFSETTO:+0100
TZNAME:BST
DTSTART:20260329T010000
END:DAYLIGHT
BEGIN:STANDARD
TZOFFSETFROM:+0100
TZOFFSETTO:+0000
TZNAME:GMT
DTSTART:20261025T010000
END:STANDARD
BEGIN:DAYLIGHT
TZOFFSETFROM:+0000
TZOFFSETTO:+0100
TZNAME:BST
DTSTART:20270328T010000
END:DAYLIGHT
BEGIN:STANDARD
TZOFFSETFROM:+0100
TZOFFSETTO:+0000
TZNAME:GMT
DTSTART:20271031T010000
END:STANDARD
END:VTIMEZONE
BEGIN:VEVENT
DTSTART;TZID=Europe/London:20260323T130000
DTEND;TZID=Europe/London:20260323T170000
DTSTAMP:20260421T224618
CREATED:20260310T104215Z
LAST-MODIFIED:20260310T104215Z
UID:4774-1774270800-1774285200@highpoint.fet.ac
SUMMARY:Half Inset Day 1pm finish
DESCRIPTION:
URL:https://highpoint.fet.ac/event/half-inset-day-1pm-finish/
CATEGORIES:Training Day,Upcoming Events
END:VEVENT
BEGIN:VEVENT
DTSTART;VALUE=DATE:20260327
DTEND;VALUE=DATE:20260328
DTSTAMP:20260421T224618
CREATED:20260303T102244Z
LAST-MODIFIED:20260320T134833Z
UID:4766-1774569600-1774655999@highpoint.fet.ac
SUMMARY:End of Term 1PM Finish
DESCRIPTION:School closes to pupils at 1pm. \nEnd Of Term
URL:https://highpoint.fet.ac/event/end-of-term/
END:VEVENT
BEGIN:VEVENT
DTSTART;TZID=Europe/London:20260422T094500
DTEND;TZID=Europe/London:20260422T101500
DTSTAMP:20260421T224618
CREATED:20250910T203211Z
LAST-MODIFIED:20260413T103123Z
UID:2982-1776851100-1776852900@highpoint.fet.ac
SUMMARY:School Tour for prospective pupils
DESCRIPTION:School Tour Image\nWe warmly invite prospective pupils and their families to join us for a school tour. This is a wonderful opportunity to see our classrooms in action\, meet our staff\, and get a real feel for our welcoming school community. We look forward to showing you around and answering any questions you may have. \nTo book your place\, please contact the school office
URL:https://highpoint.fet.ac/event/school-tour-for-prospective-pupils-2/
CATEGORIES:School Tours
END:VEVENT
END:VCALENDAR