BEGIN:VCALENDAR
VERSION:2.0
PRODID:-//High Point Academy - ECPv6.15.18//NONSGML v1.0//EN
CALSCALE:GREGORIAN
METHOD:PUBLISH
X-WR-CALNAME:High Point Academy
X-ORIGINAL-URL:https://highpoint.fet.ac
X-WR-CALDESC:Events for High Point Academy
REFRESH-INTERVAL;VALUE=DURATION:PT1H
X-Robots-Tag:noindex
X-PUBLISHED-TTL:PT1H
BEGIN:VTIMEZONE
TZID:Europe/London
BEGIN:DAYLIGHT
TZOFFSETFROM:+0000
TZOFFSETTO:+0100
TZNAME:BST
DTSTART:20240331T010000
END:DAYLIGHT
BEGIN:STANDARD
TZOFFSETFROM:+0100
TZOFFSETTO:+0000
TZNAME:GMT
DTSTART:20241027T010000
END:STANDARD
BEGIN:DAYLIGHT
TZOFFSETFROM:+0000
TZOFFSETTO:+0100
TZNAME:BST
DTSTART:20250330T010000
END:DAYLIGHT
BEGIN:STANDARD
TZOFFSETFROM:+0100
TZOFFSETTO:+0000
TZNAME:GMT
DTSTART:20251026T010000
END:STANDARD
BEGIN:DAYLIGHT
TZOFFSETFROM:+0000
TZOFFSETTO:+0100
TZNAME:BST
DTSTART:20260329T010000
END:DAYLIGHT
BEGIN:STANDARD
TZOFFSETFROM:+0100
TZOFFSETTO:+0000
TZNAME:GMT
DTSTART:20261025T010000
END:STANDARD
END:VTIMEZONE
BEGIN:VEVENT
DTSTART;TZID=Europe/London:20251110T094500
DTEND;TZID=Europe/London:20251110T101500
DTSTAMP:20260422T001134
CREATED:20250910T203437Z
LAST-MODIFIED:20251011T214405Z
UID:2984-1762767900-1762769700@highpoint.fet.ac
SUMMARY:School Tour for prospective pupils
DESCRIPTION:We warmly invite prospective pupils and their families to join us for a school tour. This is a wonderful opportunity to see our classrooms in action\, meet our staff\, and get a real feel for our welcoming school community. We look forward to showing you around and answering any questions you may have. \nTo book your place\, please contact the school office
URL:https://highpoint.fet.ac/event/school-tour-for-prospective-pupils-3/
CATEGORIES:School Tours
END:VEVENT
END:VCALENDAR